BEGIN:VCALENDAR
VERSION:2.0
PRODID:-//wp-events-plugin.com//6.5.2//EN
TZID:Europe/Paris
X-WR-TIMEZONE:Europe/Paris
BEGIN:VEVENT
UID:303@asgbagnolet93.com
DTSTART;TZID=Europe/Paris;VALUE=DATE:20260412
DTEND;TZID=Europe/Paris;VALUE=DATE:20260413
DTSTAMP:20260421T142055Z
URL:https://asgbagnolet93.com/evenements/natation-finales-departementales-
 a-aubervilliers/
SUMMARY:Natation - Finales Départementales à Aubervilliers
DESCRIPTION:
ATTACH;FMTTYPE=image/jpeg:https://asgbagnolet93.com/site_asgb/wp-content/u
 ploads/2026/02/groupe-1-1.jpg
CATEGORIES:Natation
END:VEVENT
BEGIN:VTIMEZONE
TZID:Europe/Paris
X-LIC-LOCATION:Europe/Paris
BEGIN:DAYLIGHT
DTSTART:20260329T030000
TZOFFSETFROM:+0100
TZOFFSETTO:+0200
TZNAME:CEST
END:DAYLIGHT
END:VTIMEZONE
END:VCALENDAR